BEGIN:VCALENDAR
VERSION:2.0
PRODID:-//Erlangen Centre for Astroparticle Physics - ECPv6.2.3.2//NONSGML v1.0//EN
CALSCALE:GREGORIAN
METHOD:PUBLISH
X-WR-CALNAME:Erlangen Centre for Astroparticle Physics
X-ORIGINAL-URL:https://ecap.nat.fau.de
X-WR-CALDESC:Events for Erlangen Centre for Astroparticle Physics
REFRESH-INTERVAL;VALUE=DURATION:PT1H
X-Robots-Tag:noindex
X-PUBLISHED-TTL:PT1H
BEGIN:VTIMEZONE
TZID:Europe/Berlin
BEGIN:DAYLIGHT
TZOFFSETFROM:+0100
TZOFFSETTO:+0200
TZNAME:CEST
DTSTART:20170326T010000
END:DAYLIGHT
BEGIN:STANDARD
TZOFFSETFROM:+0200
TZOFFSETTO:+0100
TZNAME:CET
DTSTART:20171029T010000
END:STANDARD
END:VTIMEZONE
BEGIN:VEVENT
DTSTART;TZID=Europe/Berlin:20171021T170000
DTEND;TZID=Europe/Berlin:20171022T000000
DTSTAMP:20260426T011254
CREATED:20171016T113406Z
LAST-MODIFIED:20171016T113406Z
UID:2039-1508605200-1508630400@ecap.nat.fau.de
SUMMARY:Die Lange Nacht der Wissenschaften
DESCRIPTION:The ECAP will participate in the “Lange Nacht der Wissenschaften” on October 21. For more information\, see the corresponding website of the Department Physik: click here.
URL:https://ecap.nat.fau.de/index.php/event/die-lange-nacht-der-wissenschaften/
LOCATION:Hörsaalgebäude Physikum\, Staudtstr. 5\, Erlangen\, 91058\, Germany
END:VEVENT
END:VCALENDAR