BEGIN:VCALENDAR
VERSION:2.0
PRODID:-//Erlangen Centre for Astroparticle Physics - ECPv6.2.3.2//NONSGML v1.0//EN
CALSCALE:GREGORIAN
METHOD:PUBLISH
X-ORIGINAL-URL:https://ecap.nat.fau.de
X-WR-CALDESC:Events for Erlangen Centre for Astroparticle Physics
REFRESH-INTERVAL;VALUE=DURATION:PT1H
X-Robots-Tag:noindex
X-PUBLISHED-TTL:PT1H
BEGIN:VTIMEZONE
TZID:Europe/Berlin
BEGIN:DAYLIGHT
TZOFFSETFROM:+0100
TZOFFSETTO:+0200
TZNAME:CEST
DTSTART:20180325T010000
END:DAYLIGHT
BEGIN:STANDARD
TZOFFSETFROM:+0200
TZOFFSETTO:+0100
TZNAME:CET
DTSTART:20181028T010000
END:STANDARD
END:VTIMEZONE
BEGIN:VEVENT
DTSTART;TZID=Europe/Berlin:20180530T120000
DTEND;TZID=Europe/Berlin:20180530T130000
DTSTAMP:20260423T035039
CREATED:20180416T140739Z
LAST-MODIFIED:20180416T140739Z
UID:2265-1527681600-1527685200@ecap.nat.fau.de
SUMMARY:ECAP Seminar: Oliver Hupe
DESCRIPTION:Radiation Protection Dosimetry: Phantoms and measuring quantities\nIn this talk the concept of the radiation protection quantities will be explained. An overview about the different types and different applications of phantoms in radiation protection and their use for the definition of the different quantities is used for this. The phantoms can serve as a basis for the current definition and the calculation of conversion coefficients for the protection quantities according to ICRP 116. For the definition\, the ICRU tissue 4-element phantoms are used. In practise\, the the ISO calibration phantom for the current operational quantities such as ISO water slab\, PMMA rod etc can be used for the calibration of personal dosemeters.
URL:https://ecap.nat.fau.de/index.php/event/ecap-seminar-oliver-hupe/
LOCATION:ECAP\, room 307\, Erwin-Rommel-Str 1\, Erlangen\, 91058\, Germany
CATEGORIES:Seminar
END:VEVENT
END:VCALENDAR