BEGIN:VCALENDAR
VERSION:2.0
PRODID:-//Erlangen Centre for Astroparticle Physics - ECPv6.2.3.2//NONSGML v1.0//EN
CALSCALE:GREGORIAN
METHOD:PUBLISH
X-ORIGINAL-URL:https://ecap.nat.fau.de
X-WR-CALDESC:Events for Erlangen Centre for Astroparticle Physics
REFRESH-INTERVAL;VALUE=DURATION:PT1H
X-Robots-Tag:noindex
X-PUBLISHED-TTL:PT1H
BEGIN:VTIMEZONE
TZID:Europe/Berlin
BEGIN:DAYLIGHT
TZOFFSETFROM:+0100
TZOFFSETTO:+0200
TZNAME:CEST
DTSTART:20180325T010000
END:DAYLIGHT
BEGIN:STANDARD
TZOFFSETFROM:+0200
TZOFFSETTO:+0100
TZNAME:CET
DTSTART:20181028T010000
END:STANDARD
END:VTIMEZONE
BEGIN:VEVENT
DTSTART;TZID=Europe/Berlin:20180606T120000
DTEND;TZID=Europe/Berlin:20180606T130000
DTSTAMP:20260423T035042
CREATED:20180416T141007Z
LAST-MODIFIED:20180416T141007Z
UID:2267-1528286400-1528290000@ecap.nat.fau.de
SUMMARY:ECAP Seminar: Michael Schulreich
DESCRIPTION:Reconstructing the origin of the Local Bubble and Loop I via radioisotopic signatures on Earth\nDeep-sea archives all over the world show an enhanced concentration of the radionuclide 60Fe\, isolated in layers dating from about 2.2Myr ago. Since this comparatively long-lived isotope is not naturally produced on Earth\, such an enhancement can only be attributed to extraterrestrial sources\, particularly one or several nearby supernovae in the recent past. It has been speculated that these supernovae might have been involved in the formation of the Local Superbubble\, our Galactic habitat. In this talk\, I will summarize our efforts in giving a quantitative evidence for this scenario. Besides analytical calculations\, I will present results from high-resolution hydrodynamical simulations of the Local Superbubble and its presumptive neighbor Loop I in different environments\, including a self-consistently evolved supernova-driven interstellar medium. For the superbubble modeling\, the time sequence and locations of the generating core-collapse supernova explosions are taken into account\, which are derived from the mass spectrum of the perished members of certain\, carefully preselected stellar moving groups. The release and turbulent mixing of 60Fe is followed via passive scalars\, where the yields of the decaying radioisotope were adjusted according to recent stellar evolution calculations. The models are able to reproduce both the timing and the intensity of the 60Fe excess observed with rather high precision. I will close with a discussion of recent developments and give future perspectives.
URL:https://ecap.nat.fau.de/index.php/event/ecap-seminar-michael-schulreich/
LOCATION:ECAP\, room 307\, Erwin-Rommel-Str 1\, Erlangen\, 91058\, Germany
CATEGORIES:Seminar
END:VEVENT
END:VCALENDAR