BEGIN:VCALENDAR
VERSION:2.0
PRODID:-//Erlangen Centre for Astroparticle Physics - ECPv6.2.3.2//NONSGML v1.0//EN
CALSCALE:GREGORIAN
METHOD:PUBLISH
X-WR-CALNAME:Erlangen Centre for Astroparticle Physics
X-ORIGINAL-URL:https://ecap.nat.fau.de
X-WR-CALDESC:Events for Erlangen Centre for Astroparticle Physics
REFRESH-INTERVAL;VALUE=DURATION:PT1H
X-Robots-Tag:noindex
X-PUBLISHED-TTL:PT1H
BEGIN:VTIMEZONE
TZID:Europe/Berlin
BEGIN:DAYLIGHT
TZOFFSETFROM:+0100
TZOFFSETTO:+0200
TZNAME:CEST
DTSTART:20190331T010000
END:DAYLIGHT
BEGIN:STANDARD
TZOFFSETFROM:+0200
TZOFFSETTO:+0100
TZNAME:CET
DTSTART:20191027T010000
END:STANDARD
END:VTIMEZONE
BEGIN:VEVENT
DTSTART;TZID=Europe/Berlin:20190110T120000
DTEND;TZID=Europe/Berlin:20190110T130000
DTSTAMP:20260419T145959
CREATED:20181004T130902Z
LAST-MODIFIED:20181004T130902Z
UID:2459-1547121600-1547125200@ecap.nat.fau.de
SUMMARY:ECAP Seminar: Klaus Helbing
DESCRIPTION:Probing Particle Physics with IceCube\nThe IceCube observatory located at the South Pole is a cubic-kilometre optical Cherenkov telescope primarily designed for the detection of high-energy astrophysical neutrinos. IceCube became fully operational in 2010 and reached a milestone in 2013 by the first observation of cosmic neutrinos in the TeV-PeV energy range. This observation does not only mark an important breakthrough in neutrino astronomy\, but it also provides a new probe of particle physics related to neutrino production\, mixing\, and interaction. An overview is given of the various possibilities how IceCube can address fundamental questions related to the phenomena of neutrino oscillations and interactions\, the origin of dark matter\, and the existence of exotic relic particles\, like monopoles. Recent results are summarized and future avenues are highlighted.
URL:https://ecap.nat.fau.de/index.php/event/ecap-seminar-klaus-helbing/
LOCATION:ECAP\, room 307\, Erwin-Rommel-Str 1\, Erlangen\, 91058\, Germany
CATEGORIES:Seminar
END:VEVENT
BEGIN:VEVENT
DTSTART;TZID=Europe/Berlin:20190110T191500
DTEND;TZID=Europe/Berlin:20190110T204500
DTSTAMP:20260419T145959
CREATED:20181026T180419Z
LAST-MODIFIED:20181026T180419Z
UID:2545-1547147700-1547153100@ecap.nat.fau.de
SUMMARY:Digitizing the Sky: Prof. Dr. U. Heber
DESCRIPTION:Prof. Heber will present the FAU contributions to the APPLAUSE digitization project of astronomical photo negative at the Collegium Alexandrinum. \nMore on the project in our News Item and at the Collegium’s page. \n 
URL:https://ecap.nat.fau.de/index.php/event/digitizing-the-sky-prof-dr-u-heber/
LOCATION:Zentrum für Medizinische Physik und Technik (ZMPT)\, Hörsaal: 01.020\, Henkestraße 91\, 91052 Erlangen\, Henkestraße 91\, Erlangen\, 91058\, Germany
END:VEVENT
END:VCALENDAR