BEGIN:VCALENDAR
VERSION:2.0
PRODID:-//Erlangen Centre for Astroparticle Physics - ECPv6.2.3.2//NONSGML v1.0//EN
CALSCALE:GREGORIAN
METHOD:PUBLISH
X-ORIGINAL-URL:https://ecap.nat.fau.de
X-WR-CALDESC:Events for Erlangen Centre for Astroparticle Physics
REFRESH-INTERVAL;VALUE=DURATION:PT1H
X-Robots-Tag:noindex
X-PUBLISHED-TTL:PT1H
BEGIN:VTIMEZONE
TZID:Europe/Berlin
BEGIN:DAYLIGHT
TZOFFSETFROM:+0100
TZOFFSETTO:+0200
TZNAME:CEST
DTSTART:20190331T010000
END:DAYLIGHT
BEGIN:STANDARD
TZOFFSETFROM:+0200
TZOFFSETTO:+0100
TZNAME:CET
DTSTART:20191027T010000
END:STANDARD
END:VTIMEZONE
BEGIN:VEVENT
DTSTART;TZID=Europe/Berlin:20190131T120000
DTEND;TZID=Europe/Berlin:20190131T130000
DTSTAMP:20260419T225954
CREATED:20181004T132049Z
LAST-MODIFIED:20181004T132049Z
UID:2464-1548936000-1548939600@ecap.nat.fau.de
SUMMARY:ECAP Seminar: Joachim Puls
DESCRIPTION:On the difficulties to derive reliable CNO abundances in hot massive stars\nThough low in number\, massive stars play an essential role in the early and present Universe\, due to their enormous energy output and production of metals. Moreover\, the end-products of massive star evolution are among the most spectacular events/objects in our Cosmos: Supernovae\, (long-duration) Gamma-Ray Bursters and Black Holes. Unfortunately\, the evolution of massive stars is not as well understood as required for reliably predicting the different evolutionary channels\, and problems already exist during the Main Sequence\, related to mass loss and rotation. To constrain present evolutionary predictions\, the observational analysis of CNO surface abundances is a prime tool\, giving insight into rotationally-induced mixing processes and angular momentum transport. Such analyses\, however\, are hampered by many difficulties\, increasing the measurement uncertainties significantly\, compared to the low-mass case. In this talk\, I will outline these difficulties\, also with focus on problems arising from physically complex line transitions\, and discuss the results and implications from more recent abundance studies of hot massive stars.
URL:https://ecap.nat.fau.de/index.php/event/ecap-seminar-joachim-puls/
LOCATION:ECAP\, room 307\, Erwin-Rommel-Str 1\, Erlangen\, 91058\, Germany
CATEGORIES:Seminar
END:VEVENT
END:VCALENDAR