BEGIN:VCALENDAR
VERSION:2.0
PRODID:-//Erlangen Centre for Astroparticle Physics - ECPv6.2.3.2//NONSGML v1.0//EN
CALSCALE:GREGORIAN
METHOD:PUBLISH
X-WR-CALNAME:Erlangen Centre for Astroparticle Physics
X-ORIGINAL-URL:https://ecap.nat.fau.de
X-WR-CALDESC:Events for Erlangen Centre for Astroparticle Physics
REFRESH-INTERVAL;VALUE=DURATION:PT1H
X-Robots-Tag:noindex
X-PUBLISHED-TTL:PT1H
BEGIN:VTIMEZONE
TZID:Europe/Berlin
BEGIN:DAYLIGHT
TZOFFSETFROM:+0100
TZOFFSETTO:+0200
TZNAME:CEST
DTSTART:20190331T010000
END:DAYLIGHT
BEGIN:STANDARD
TZOFFSETFROM:+0200
TZOFFSETTO:+0100
TZNAME:CET
DTSTART:20191027T010000
END:STANDARD
END:VTIMEZONE
BEGIN:VEVENT
DTSTART;TZID=Europe/Berlin:20190214T120000
DTEND;TZID=Europe/Berlin:20190214T130000
DTSTAMP:20260420T014721
CREATED:20190130T085139Z
LAST-MODIFIED:20190130T085139Z
UID:2624-1550145600-1550149200@ecap.nat.fau.de
SUMMARY:ECAP Seminar: Takaaki Tanaka
DESCRIPTION:Recent Results from X-ray Studies of Supernova Remnants\nX-ray emission from supernova remnants provides us with probes to high energy phenomena such as acceleration of cosmic-ray particles and nucleosynthesis in supernova explosions. In this talk\, I will present some of recent results that I\, with my students and collaborators\, obtained from observations with Suzaku\, Chandra\, XMM-Newton\, and NuSTAR satellites. I will mainly cover results related to particle acceleration and over-ionized plasma in Galactic supernova remnants. I will also talk about expectations brought about by high resolution spectroscopy with future X-ray observatories such as XRISM\, which is scheduled to be launched in 2021.
URL:https://ecap.nat.fau.de/index.php/event/ecap-seminar-takaaki-tanaka/
LOCATION:ECAP\, room 307\, Erwin-Rommel-Str 1\, Erlangen\, 91058\, Germany
CATEGORIES:Seminar
END:VEVENT
END:VCALENDAR