BEGIN:VCALENDAR
VERSION:2.0
PRODID:-//Erlangen Centre for Astroparticle Physics - ECPv6.2.3.2//NONSGML v1.0//EN
CALSCALE:GREGORIAN
METHOD:PUBLISH
X-ORIGINAL-URL:https://ecap.nat.fau.de
X-WR-CALDESC:Events for Erlangen Centre for Astroparticle Physics
REFRESH-INTERVAL;VALUE=DURATION:PT1H
X-Robots-Tag:noindex
X-PUBLISHED-TTL:PT1H
BEGIN:VTIMEZONE
TZID:Europe/Berlin
BEGIN:DAYLIGHT
TZOFFSETFROM:+0100
TZOFFSETTO:+0200
TZNAME:CEST
DTSTART:20220327T010000
END:DAYLIGHT
BEGIN:STANDARD
TZOFFSETFROM:+0200
TZOFFSETTO:+0100
TZNAME:CET
DTSTART:20221030T010000
END:STANDARD
END:VTIMEZONE
BEGIN:VEVENT
DTSTART;TZID=Europe/Berlin:20220623T130000
DTEND;TZID=Europe/Berlin:20220623T140000
DTSTAMP:20260422T102303
CREATED:20220620T093007Z
LAST-MODIFIED:20220620T093007Z
UID:3981-1655989200-1655992800@ecap.nat.fau.de
SUMMARY:ECAP Seminar: Prasenjit Saha
DESCRIPTION:Next-generation optical interferometry\, or the return of Hanbury Brown and Twiss\nHanbury Brown and Twiss are rightly famous as the pioneers of quantum optics in the 1950s\, but their real goal was astronomical imaging to the sub-milliarcsecond scale and beyond\, enough to resolve stars. This talk will explain how their counter-intuitive technique of intensity interferometry works\, and why it has become topical in the 2020s. Four science cases will be briefly discussed: the mass-radius relation in stars\, astrometric planet searching\, transient fireballs such as novae\, and finally\, a novel test for LISA.
URL:https://ecap.nat.fau.de/index.php/event/ecap-seminar-2022-06-23-prasenjit-saha/
LOCATION:ECAP\, room 307\, Erwin-Rommel-Str 1\, Erlangen\, 91058\, Germany
CATEGORIES:Seminar
END:VEVENT
END:VCALENDAR