BEGIN:VCALENDAR
VERSION:2.0
PRODID:-//Erlangen Centre for Astroparticle Physics - ECPv6.2.3.2//NONSGML v1.0//EN
CALSCALE:GREGORIAN
METHOD:PUBLISH
X-WR-CALNAME:Erlangen Centre for Astroparticle Physics
X-ORIGINAL-URL:https://ecap.nat.fau.de
X-WR-CALDESC:Events for Erlangen Centre for Astroparticle Physics
REFRESH-INTERVAL;VALUE=DURATION:PT1H
X-Robots-Tag:noindex
X-PUBLISHED-TTL:PT1H
BEGIN:VTIMEZONE
TZID:Europe/Berlin
BEGIN:DAYLIGHT
TZOFFSETFROM:+0100
TZOFFSETTO:+0200
TZNAME:CEST
DTSTART:20240331T010000
END:DAYLIGHT
BEGIN:STANDARD
TZOFFSETFROM:+0200
TZOFFSETTO:+0100
TZNAME:CET
DTSTART:20241027T010000
END:STANDARD
END:VTIMEZONE
BEGIN:VEVENT
DTSTART;TZID=Europe/Berlin:20240627T130000
DTEND;TZID=Europe/Berlin:20240627T140000
DTSTAMP:20260424T012139
CREATED:20240502T111528Z
LAST-MODIFIED:20240626T170421Z
UID:5166-1719493200-1719496800@ecap.nat.fau.de
SUMMARY:ECAP Seminar: Martin Mayer
DESCRIPTION:Rotation-powered pulsars and their nebulae – the eROSITA view\nSRG/eROSITA is a soft X-ray (0.2 – 10 keV) telescope which has carried out the deepest X-ray all-sky survey to date. In this talk\, I will present how the eROSITA data can be used to study rotation-powered pulsars and their pulsar wind nebulae\, exemplified by two projects: \nFirstly\, the surveying power of eROSITA has allowed us to carry out a systematic search for new high-energy pulsars through a cross-match with gamma-ray sources detected by Fermi-LAT. The resulting candidate list is expected to yield detections of several tens of new pulsars\, and can ideally be followed up by looking for signatures of pulsed radio emission\, or orbitally modulated optical emission from a binary companion\, at the candidate positions. \nSecondly\, eROSITA’s sensitivity has enabled us to study the X-ray synchrotron emission of Vela X\, the wind nebula of the Vela pulsar\, at unprecedented detail. This study led to the discovery of an extremely extended nonthermally emitting component\, reaching radii up to 15 pc from the Vela pulsar. Its large size can possibly be explained through particle transport by diffusion\, akin to the halos discovered around older pulsars in gamma-rays.
URL:https://ecap.nat.fau.de/index.php/event/ecap-seminar-2024-06-27-martin-mayer/
LOCATION:ECAP\, room 307\, Erwin-Rommel-Str 1\, Erlangen\, 91058\, Germany
CATEGORIES:Seminar
END:VEVENT
END:VCALENDAR