BEGIN:VCALENDAR
VERSION:2.0
PRODID:-//Erlangen Centre for Astroparticle Physics - ECPv6.2.3.2//NONSGML v1.0//EN
CALSCALE:GREGORIAN
METHOD:PUBLISH
X-ORIGINAL-URL:https://ecap.nat.fau.de
X-WR-CALDESC:Events for Erlangen Centre for Astroparticle Physics
REFRESH-INTERVAL;VALUE=DURATION:PT1H
X-Robots-Tag:noindex
X-PUBLISHED-TTL:PT1H
BEGIN:VTIMEZONE
TZID:Europe/Berlin
BEGIN:DAYLIGHT
TZOFFSETFROM:+0100
TZOFFSETTO:+0200
TZNAME:CEST
DTSTART:20240331T010000
END:DAYLIGHT
BEGIN:STANDARD
TZOFFSETFROM:+0200
TZOFFSETTO:+0100
TZNAME:CET
DTSTART:20241027T010000
END:STANDARD
END:VTIMEZONE
BEGIN:VEVENT
DTSTART;TZID=Europe/Berlin:20241031T130000
DTEND;TZID=Europe/Berlin:20241031T140000
DTSTAMP:20260425T143409
CREATED:20241002T130944Z
LAST-MODIFIED:20241014T122722Z
UID:5328-1730379600-1730383200@ecap.nat.fau.de
SUMMARY:ECAP Seminar: Jonas Neuser
DESCRIPTION:Black hole evaporation and quantum gravity\nHawking’s seminal result\, that black holes behave as black bodies with a non-vanishing temperature\, suggests that black holes should evaporate. However\, Hawking’s derivation is incomplete as it neglects the backreaction between radiation and geometry. Including it requires to incorporate quantum gravity. This talk focuses on the description of the conceptual challenges associated with black hole evaporation and sketches a recent proposal designed for meeting them. The intention is to eventually derive quantum gravity triggered deviations from Hawking’s evaporation formula and to convert them into measurable data.
URL:https://ecap.nat.fau.de/index.php/event/ecap-seminar-2024-10-31-jonas-neuser/
LOCATION:ECAP Laboratory\, 00.061\, Nikolaus-Fiebiger-Str. 2\, Erlangen\, 91058\, Germany
CATEGORIES:Seminar
END:VEVENT
END:VCALENDAR