BEGIN:VCALENDAR
VERSION:2.0
PRODID:-//Erlangen Centre for Astroparticle Physics - ECPv6.2.3.2//NONSGML v1.0//EN
CALSCALE:GREGORIAN
METHOD:PUBLISH
X-WR-CALNAME:Erlangen Centre for Astroparticle Physics
X-ORIGINAL-URL:https://ecap.nat.fau.de
X-WR-CALDESC:Events for Erlangen Centre for Astroparticle Physics
REFRESH-INTERVAL;VALUE=DURATION:PT1H
X-Robots-Tag:noindex
X-PUBLISHED-TTL:PT1H
BEGIN:VTIMEZONE
TZID:Europe/Berlin
BEGIN:DAYLIGHT
TZOFFSETFROM:+0100
TZOFFSETTO:+0200
TZNAME:CEST
DTSTART:20240331T010000
END:DAYLIGHT
BEGIN:STANDARD
TZOFFSETFROM:+0200
TZOFFSETTO:+0100
TZNAME:CET
DTSTART:20241027T010000
END:STANDARD
END:VTIMEZONE
BEGIN:VEVENT
DTSTART;TZID=Europe/Berlin:20241205T130000
DTEND;TZID=Europe/Berlin:20241205T140000
DTSTAMP:20260425T202816
CREATED:20241105T150605Z
LAST-MODIFIED:20241205T111738Z
UID:5364-1733403600-1733407200@ecap.nat.fau.de
SUMMARY:ECAP Seminar: Eli Kasai
DESCRIPTION:Optical spectroscopy and imaging of blazars for the Cherenkov Telescope Array Observatory\nBlazars are the brightest persistent sources in the high-energy and very-high-energy (VHE) gamma-ray sky. Because their UV/optical radiation is often dominated by non-thermal\, and\, in the case of BL Lacs\, featureless continuum radiation\, the determination of their redshift is extremely difficult. Only about 50% of gamma-ray blazars have a firm measurement of their redshift. This strongly reduces the precision in the modelling of their VHE emission\, involving the absorption due to the extragalactic background light\, which is dependent on redshift. Furthermore\, the effects on their radiation of proposed physics beyond the Standard Model such as Lorentz Invariance Violation and Axion-Like Particles cannot be reliably investigated. During the Cherenkov Telescope Array Observatory (CTAO) operations\, several hundreds of new blazars will be detected\, most of them without redshift. In order to mitigate this condition\, we devised an optical observing campaign. Likely targets were selected through simulations of CTAO observations using the Fermi-LAT 3FHL catalog as a starting point. Our campaign\, started in 2019\, has been recognized as necessary support for the AGN Key Science Project of the CTAO. It involves deep observations using\, among others\, 10-m class telescopes such as Keck\, SALT\, GTC and the VLT. In this talk\, I will present the status of our campaign\, its future developments and other activities we are pursuing.
URL:https://ecap.nat.fau.de/index.php/event/ecap-seminar-2024-12-05-eli-kasai/
LOCATION:Physikum\, Hörsaal HF\, Staudtstr. 5\, Erlangen\, 91058\, Germany
CATEGORIES:Seminar
END:VEVENT
END:VCALENDAR