BEGIN:VCALENDAR
VERSION:2.0
PRODID:-//Erlangen Centre for Astroparticle Physics - ECPv6.2.3.2//NONSGML v1.0//EN
CALSCALE:GREGORIAN
METHOD:PUBLISH
X-WR-CALNAME:Erlangen Centre for Astroparticle Physics
X-ORIGINAL-URL:https://ecap.nat.fau.de
X-WR-CALDESC:Events for Erlangen Centre for Astroparticle Physics
REFRESH-INTERVAL;VALUE=DURATION:PT1H
X-Robots-Tag:noindex
X-PUBLISHED-TTL:PT1H
BEGIN:VTIMEZONE
TZID:Europe/Berlin
BEGIN:DAYLIGHT
TZOFFSETFROM:+0100
TZOFFSETTO:+0200
TZNAME:CEST
DTSTART:20250330T010000
END:DAYLIGHT
BEGIN:STANDARD
TZOFFSETFROM:+0200
TZOFFSETTO:+0100
TZNAME:CET
DTSTART:20251026T010000
END:STANDARD
END:VTIMEZONE
BEGIN:VEVENT
DTSTART;TZID=Europe/Berlin:20250109T130000
DTEND;TZID=Europe/Berlin:20250109T140000
DTSTAMP:20260425T201505
CREATED:20250107T085130Z
LAST-MODIFIED:20250113T210811Z
UID:5503-1736427600-1736431200@ecap.nat.fau.de
SUMMARY:ECAP Seminar: Sebastian Schoenen
DESCRIPTION:From Research to Practice: Applying Artificial Intelligence in the Insurance Industry\nThis presentation provides insights into the practical applications of artificial intelligence (AI) and machine learning in the insurance sector. Using examples from our work at ControlExpert\, I will demonstrate how advanced image recognition and natural language processing (NLP) technologies are leveraged to automate and optimize processes. Additionally\, the talk will highlight how data scientists with backgrounds in physics\, mathematics\, and other disciplines can effectively translate their skills into valuable contributions within the industry.
URL:https://ecap.nat.fau.de/index.php/event/ecap-seminar-2025-01-09-sebastian-schoenen/
LOCATION:ECAP Laboratory\, 00.061\, Nikolaus-Fiebiger-Str. 2\, Erlangen\, 91058\, Germany
CATEGORIES:Seminar
END:VEVENT
END:VCALENDAR