BEGIN:VCALENDAR
VERSION:2.0
PRODID:-//Erlangen Centre for Astroparticle Physics - ECPv6.2.3.2//NONSGML v1.0//EN
CALSCALE:GREGORIAN
METHOD:PUBLISH
X-WR-CALNAME:Erlangen Centre for Astroparticle Physics
X-ORIGINAL-URL:https://ecap.nat.fau.de
X-WR-CALDESC:Events for Erlangen Centre for Astroparticle Physics
REFRESH-INTERVAL;VALUE=DURATION:PT1H
X-Robots-Tag:noindex
X-PUBLISHED-TTL:PT1H
BEGIN:VTIMEZONE
TZID:Europe/Berlin
BEGIN:DAYLIGHT
TZOFFSETFROM:+0100
TZOFFSETTO:+0200
TZNAME:CEST
DTSTART:20240331T010000
END:DAYLIGHT
BEGIN:STANDARD
TZOFFSETFROM:+0200
TZOFFSETTO:+0100
TZNAME:CET
DTSTART:20241027T010000
END:STANDARD
END:VTIMEZONE
BEGIN:VEVENT
DTSTART;TZID=Europe/Berlin:20240425T130000
DTEND;TZID=Europe/Berlin:20240425T140000
DTSTAMP:20260419T175750
CREATED:20240419T113417Z
LAST-MODIFIED:20240419T113417Z
UID:5151-1714050000-1714053600@ecap.nat.fau.de
SUMMARY:ECAP Seminar: Atreya Acharyya
DESCRIPTION:Recent Highlights from the VERITAS AGN Program\nVERITAS is one of the world’s most sensitive detectors of astrophysical very high energy (VHE; E > 100 GeV) gamma rays. This observatory began full-scale operations in 2007\, and more than 8\,000 hours of its good-weather observations have been targeted on active galactic nuclei (AGN). Approximately ~250 AGN were observed with VERITAS\, many of these as part of a comprehensive program to discover new VHE AGN. VERITAS spectral and variability measurements\, and accompanying broadband observations\, are key probes of the underlying jet-powered processes in AGN. Recent scientific highlights from the VERITAS AGN discovery program will be presented.
URL:https://ecap.nat.fau.de/index.php/event/ecap-seminar-2024-04-25-atreya-acharyya/
LOCATION:ECAP Laboratory\, 00.061\, Nikolaus-Fiebiger-Str. 2\, Erlangen\, 91058\, Germany
CATEGORIES:Seminar
END:VEVENT
END:VCALENDAR