BEGIN:VCALENDAR
VERSION:2.0
PRODID:-//Erlangen Centre for Astroparticle Physics - ECPv6.2.3.2//NONSGML v1.0//EN
CALSCALE:GREGORIAN
METHOD:PUBLISH
X-WR-CALNAME:Erlangen Centre for Astroparticle Physics
X-ORIGINAL-URL:https://ecap.nat.fau.de
X-WR-CALDESC:Events for Erlangen Centre for Astroparticle Physics
REFRESH-INTERVAL;VALUE=DURATION:PT1H
X-Robots-Tag:noindex
X-PUBLISHED-TTL:PT1H
BEGIN:VTIMEZONE
TZID:Europe/Berlin
BEGIN:DAYLIGHT
TZOFFSETFROM:+0100
TZOFFSETTO:+0200
TZNAME:CEST
DTSTART:20170326T010000
END:DAYLIGHT
BEGIN:STANDARD
TZOFFSETFROM:+0200
TZOFFSETTO:+0100
TZNAME:CET
DTSTART:20171029T010000
END:STANDARD
END:VTIMEZONE
BEGIN:VEVENT
DTSTART;TZID=Europe/Berlin:20171122T120000
DTEND;TZID=Europe/Berlin:20171122T130000
DTSTAMP:20260425T054823
CREATED:20171024T133438Z
LAST-MODIFIED:20171024T133438Z
UID:2075-1511352000-1511355600@ecap.nat.fau.de
SUMMARY:ECAP Seminar: Stefan Jordan
DESCRIPTION:The Gaia Mission – Overview\, First Results\, and future prospects\nThe astrometric satellite Gaia was launched in December 2019. After a comprehensive commissioning phase Gaia began its nominal scientific measurements in mid 2014. Gaia’s main goal is the determination of precise astrometric data for more than one billion stars in our Milky Way with extremely high precision. Gaia Data Release 1 was published in September 2016. It contains positions and magnitudes for about 1.1 billion stars. For two million stars proper motions and parallaxes could also be determined. Almost 200 scientific papers based on this catalogue were published until November 2017. The Gaia mission will also provide constraints on the distribution of dark matter in our Galaxy and the Hubble constant.
URL:https://ecap.nat.fau.de/index.php/event/stefan-jordan-gaia/
LOCATION:ECAP\, room 307\, Erwin-Rommel-Str 1\, Erlangen\, 91058\, Germany
CATEGORIES:Seminar
END:VEVENT
BEGIN:VEVENT
DTSTART;TZID=Europe/Berlin:20171129T120000
DTEND;TZID=Europe/Berlin:20171129T130000
DTSTAMP:20260425T054823
CREATED:20171106T153036Z
LAST-MODIFIED:20171106T153036Z
UID:2110-1511956800-1511960400@ecap.nat.fau.de
SUMMARY:ECAP Seminar: Chris Belczynski
DESCRIPTION:The Astrophysics of BH-BH/NS-NS Mergers with LIGO/Virgo\nI will discuss the astrophysical importance of the recent LIGO/Virgo direct detections of gravitational-waves. Despite majority of the expectations\, it was not neutron star mergers being detected first\, but the series of exotic massive black hole mergers. I will describe the leading theories of the formation of such black hole systems. I will also comment on a detection of NS-NS merger. This particular detection may provide striking constraints on binary evolution. Several astrophysical implications are beginning to emerge despite the fact that the exact origin of LIGO/Virgo sources is not yet known.
URL:https://ecap.nat.fau.de/index.php/event/ecap-seminar-chris-belczynski/
LOCATION:ECAP\, room 307\, Erwin-Rommel-Str 1\, Erlangen\, 91058\, Germany
CATEGORIES:Seminar
END:VEVENT
END:VCALENDAR