BEGIN:VCALENDAR
VERSION:2.0
PRODID:-//Erlangen Centre for Astroparticle Physics - ECPv6.2.3.2//NONSGML v1.0//EN
CALSCALE:GREGORIAN
METHOD:PUBLISH
X-ORIGINAL-URL:https://ecap.nat.fau.de
X-WR-CALDESC:Events for Erlangen Centre for Astroparticle Physics
REFRESH-INTERVAL;VALUE=DURATION:PT1H
X-Robots-Tag:noindex
X-PUBLISHED-TTL:PT1H
BEGIN:VTIMEZONE
TZID:Europe/Berlin
BEGIN:DAYLIGHT
TZOFFSETFROM:+0100
TZOFFSETTO:+0200
TZNAME:CEST
DTSTART:20170326T010000
END:DAYLIGHT
BEGIN:STANDARD
TZOFFSETFROM:+0200
TZOFFSETTO:+0100
TZNAME:CET
DTSTART:20171029T010000
END:STANDARD
END:VTIMEZONE
BEGIN:VEVENT
DTSTART;TZID=Europe/Berlin:20171213T120000
DTEND;TZID=Europe/Berlin:20171213T130000
DTSTAMP:20260424T115923
CREATED:20171026T072957Z
LAST-MODIFIED:20171026T072957Z
UID:2081-1513166400-1513170000@ecap.nat.fau.de
SUMMARY:ECAP Seminar: Jochen Greiner
DESCRIPTION:The gravitational wave detection of a binary neutron star merger: expectations\, surprises\, and prospects\nOn August 17\, 2017\, Advanced LIGO & Virgo detected gravitational waves from a binary neutron star merger. A short-duration gamma-ray burst was detected in temporal coincidence by the INTEGRAL and Fermi satellites. A few hours later\, an optical/NIR transient was found which turned out to be compatible with the predictions of a kilonova\, powered by the radioactive decay of heavy r-process nuclei produced in the merger. I will give an overview of the observational results of this event which will go down in history as the start of multi-messenger gravitational wave astronomy. I will contrast the original expectations with the actual findings\, and will spend most of the time on the mismatches\, i.e. the new questions which emerged.
URL:https://ecap.nat.fau.de/index.php/event/ecap-seminar-jochen-greiner/
LOCATION:ECAP\, room 307\, Erwin-Rommel-Str 1\, Erlangen\, 91058\, Germany
CATEGORIES:Seminar
END:VEVENT
BEGIN:VEVENT
DTSTART;TZID=Europe/Berlin:20171220T120000
DTEND;TZID=Europe/Berlin:20171220T130000
DTSTAMP:20260424T115923
CREATED:20171010T125403Z
LAST-MODIFIED:20171010T125403Z
UID:2029-1513771200-1513774800@ecap.nat.fau.de
SUMMARY:ECAP Seminar : Marek Kowalski
DESCRIPTION:A new era in multi-messenger astronomy\nWith the recent discoveries of gravitational waves and high-energy cosmic neutrinos\, we are witnessing the beginning of a new era in Multi-Messenger astronomy. The exploration of the Universe through these new messengers\, along with electromagnetic radiation and cosmic rays\, provides for new insights into the most extreme\, energetic cosmic events\, environments and particle accelerators. The objects of interest range from galaxies with accreting supermassive black holes in their center to coalescing stellar neutron stars. In my talk I will discuss some of our recent observations\, as well as selected future directions\, including the Zwicky Transient Facility\, a new wide-field imaging facility that will greatly improve our prospects for finding transient sources.
URL:https://ecap.nat.fau.de/index.php/event/marek-kowalski-zwicky-transient-facility/
LOCATION:ECAP\, room 307\, Erwin-Rommel-Str 1\, Erlangen\, 91058\, Germany
CATEGORIES:Seminar
END:VEVENT
END:VCALENDAR