BEGIN:VCALENDAR
VERSION:2.0
PRODID:-//Erlangen Centre for Astroparticle Physics - ECPv6.2.3.2//NONSGML v1.0//EN
CALSCALE:GREGORIAN
METHOD:PUBLISH
X-WR-CALNAME:Erlangen Centre for Astroparticle Physics
X-ORIGINAL-URL:https://ecap.nat.fau.de
X-WR-CALDESC:Events for Erlangen Centre for Astroparticle Physics
REFRESH-INTERVAL;VALUE=DURATION:PT1H
X-Robots-Tag:noindex
X-PUBLISHED-TTL:PT1H
BEGIN:VTIMEZONE
TZID:Europe/Berlin
BEGIN:DAYLIGHT
TZOFFSETFROM:+0100
TZOFFSETTO:+0200
TZNAME:CEST
DTSTART:20220327T010000
END:DAYLIGHT
BEGIN:STANDARD
TZOFFSETFROM:+0200
TZOFFSETTO:+0100
TZNAME:CET
DTSTART:20221030T010000
END:STANDARD
END:VTIMEZONE
BEGIN:VEVENT
DTSTART;TZID=Europe/Berlin:20220512T130000
DTEND;TZID=Europe/Berlin:20220512T140000
DTSTAMP:20260422T012712
CREATED:20220506T075833Z
LAST-MODIFIED:20220506T075833Z
UID:3950-1652360400-1652364000@ecap.nat.fau.de
SUMMARY:ECAP Seminar: Silvia Celli
DESCRIPTION:On the radiation signatures of Galactic PeVatrons: the gamma-ray and neutrino perspective\nVery-high-energy gamma rays and neutrinos are crucial messengers for assessing the PeVatron nature of cosmic sources. In particular\, supernova remnants (SNRs) are since long time believed to be the major contributors to the Galactic cosmic-ray flux observed at Earth. Despite experimental efforts devoted to the identification of PeV activity in SNRs\, such a picture remains yet to be confirmed. Additionally\, the poor knowledge of the magnetic turbulence development and evolution in these sources still prevent us from a full understanding of the process of particle acceleration and propagation at SNR shocks. In this contribution\, I will review the current status of the SNR paradigm for the origin of cosmic rays\, highlighting how (current and future) gamma-ray and neutrino observations can contribute to test this scenario and possibly provide constraints to model parameters. At the same time\, I will also discuss how some features in the cosmic-ray spectrum are possibly related to run-away particles injected by SNRs in the Galaxy\, and what information do they provide about these sources.
URL:https://ecap.nat.fau.de/index.php/event/ecap-seminar-2022-05-12-silvia-celli/
LOCATION:ECAP\, room 307\, Erwin-Rommel-Str 1\, Erlangen\, 91058\, Germany
CATEGORIES:Seminar
END:VEVENT
BEGIN:VEVENT
DTSTART;TZID=Europe/Berlin:20220519T140000
DTEND;TZID=Europe/Berlin:20220519T150000
DTSTAMP:20260422T012712
CREATED:20220507T114049Z
LAST-MODIFIED:20220507T114049Z
UID:3956-1652968800-1652972400@ecap.nat.fau.de
SUMMARY:ECAP Seminar: Brian Hare
DESCRIPTION:Revealing Lightning with the LOFAR radio telescope\nLightning is an extremely complex phenomena that is still only poorly understood. For example\, we do not know how lightning initiates\, how it propagates\, or why it emits intense bursts of gamma radiation. One fundamental difficulty in studying lightning is that the best state-of-the-art models are only applicable to spatial regions below a meter in size\, while most observations have 10-100 m resolution. This leaves a large gap between what can been modeled and what can be measured. In the last few years\, however\, our group has started using the LOFAR radio telescope to probe lightning at meter and nanosecond scale resolution and have made tremendous progress in closing the gap between modeling and measurement. In this talk I will discuss the current state of lightning science\, how we are using the LOFAR radio telescope to image lightning\, and exciting new insights that LOFAR is giving into the initiation and propagation of lightning.
URL:https://ecap.nat.fau.de/index.php/event/ecap-seminar-2022-05-19-brian-hare/
LOCATION:ECAP\, room 307\, Erwin-Rommel-Str 1\, Erlangen\, 91058\, Germany
CATEGORIES:Seminar
END:VEVENT
BEGIN:VEVENT
DTSTART;TZID=Europe/Berlin:20220521T180000
DTEND;TZID=Europe/Berlin:20220521T235900
DTSTAMP:20260422T012712
CREATED:20220510T121430Z
LAST-MODIFIED:20220510T121430Z
UID:3959-1653156000-1653177540@ecap.nat.fau.de
SUMMARY:Long Night of Sciences 2022
DESCRIPTION:During the Long Night of Sciences in 2022 the Erlangen Centre for Astroparticle Physics will once again be part of the program. Scientists from different ECAP groups will present their work in an exhibition with posters and many exhibition items: A cloud chamber\, a scale model of a modern gamma-ray telescope\, animated event displays of neutrino telescopes and many more. Our scientists are eager to give insights into their current research and welcome any questions from the general public. \nAdditionally\, at the same venue there will be hourly talks about various interesting physics topics including contributions from ECAP scientists; as well as fascinating physics experiments performed regularly throughout the evening.
URL:https://ecap.nat.fau.de/index.php/event/long-night-of-sciences-2022/
LOCATION:Hörsaalgebäude Physikum\, Staudtstr. 5\, Erlangen\, 91058\, Germany
END:VEVENT
END:VCALENDAR